Workbook

Sheet 1.Ho So Ca Nhan
A1: KE HOACH TICH SAN 5 NAM | D1: Ghi chu: O XANH = nhap lieu · O DEN = cong thuc tu dong
A2: Sheet 1 - Ho So Tai Chinh Ca Nhan | Nguyen Ngoc Ung · FIDT
A3: A. THU NHAP & CHI TIEU HANG THANG (VND)
A4: Thu nhap thuc nhan sau thue (net) | B4: 0 | C4: VND/thang
A5: Tong chi tieu hang thang | B5: 0 | C5: VND/thang
A6: Thang du thuc hang thang | B6: =B4-B5 | C6: VND/thang
A7: Thang du ky vong cuoi nam (%) | B7: 0 | C7: %
A8: B. TAI SAN HIEN TAI (VND)
A9: Tien mat & Tiet kiem (Tầng 1) | B9: 0 | C9: VND
A10: Bao hiem & Bao toan (Tầng 2) | B10: 0 | C10: VND
A11: Dau tu Tang truong (Tầng 3) | B11: 0 | C11: VND
A12: Dau co ngan han (Tầng 4) | B12: 0 | C12: VND
A13: Tong tai san hien tai | B13: =B9+B10+B11+B12 | C13: VND
A14: C. MUC TIEU FIRE
A15: Tuoi hien tai | B15: 0 | C15: tuoi
A16: Tuoi FIRE mong muon | B16: 0 | C16: tuoi
A17: So nam den FIRE | B17: =B16-B15 | C17: nam
A18: Chi tieu mong muon khi nghi huu | B18: 0 | C18: VND/thang
A19: FIRE Number (x 300, quy tac 4%) | B19: =B18*300 | C19: VND
A20: Tai san con thieu | B20: =B19-B13 | C20: VND
A22: HUONG DAN SU DUNG: 1. Nhap thu nhap & chi tieu thuc cua ban vao o VANG (Sheet nay) 2. Xem Sheet 2 de kiem tra phan bo 4 tang phu hop chua 3. Sheet 3 se tu dong tao lich dau tu 60 thang 4. Sheet 4 tinh ngay ban dat FIRE theo 3 kich ban lai suat 5. Review moi quy voi FP — dung Sheet 5 Dashboard

Sheet 2.Kim Tu Thap 4 Tang
A1: PHAN BO KIM TU THAP 4 TANG
A2: Sheet 2 - Phan Bo Tai San | Nguyen Ngoc Ung · FIDT
A3: Thang du thuc hang thang (tu Sheet 1): | D3: ='1.Ho So Ca Nhan'!B6 | E3: VND/thang
A4: TANG | B4: MUC TIEU (%) | C4: THUC TE (%) | D4: SO TIEN/THANG (VND) | E4: MO TA & KENH DAU TU
A5: Tang 1 - BAO VE | B5: 0.175 | C5: =IF(D3>0,D5/D3,0) | D5: =ROUND(B5*D3,0) | E5: Quy khan cap 6 thang · Bao hiem nhan tho thuan tuy · Tiet kiem ngan hang [15-20%]
A6: Tang 2 - BAO TOAN | B6: 0.3 | C6: =IF(D3>0,D6/D3,0) | D6: =ROUND(B6*D3,0) | E6: Trai phieu chinh phu · CCQ trai phieu · Bao hiem co gia tri tich luy [25-35%]
A7: Tang 3 - TANG TRUONG | B7: 0.45 | C7: =IF(D3>0,D7/D3,0) | D7: =ROUND(B7*D3,0) | E7: CCQ co phieu noi dia · ETF · Co phieu blue-chip VN30 · DCA hang thang [40-50%]
A8: Tang 4 - DAU CO | B8: 0.075 | C8: =IF(D3>0,D8/D3,0) | D8: =ROUND(B8*D3,0) | E8: Co phieu tang truong · Crypto · Hang hoa · Von lieu ro cao (tuy chon) [<=10%]
A9: TONG | B9: =SUM(B5:B8) | C9: =SUM(C5:C8) | D9: =SUM(D5:D8) | E9: Tong phai = 100% thang du thuc
A11: LUU Y: Nhap ty le % vao cot B (muc tieu) · Cot C & D tu dong tinh tu thang du Sheet 1 · Tang 1+2+3+4 nen = 100%

Sheet 3.Lich 60 Thang
A1: LICH DAU TU 60 THANG (5 NAM)
A2: Sheet 3 - Lich Dau Tu Hang Thang | Nguyen Ngoc Ung · FIDT
A3: Thang bat dau (MM/YYYY): | F3: T01/2026
A4: Thang du/thang (tu Sheet 1): | F4: ='1.Ho So Ca Nhan'!B6
A5: STT | B5: THANG | C5: TANG 1 BAO VE | D5: TANG 2 BAO TOAN | E5: TANG 3 TANG TRUONG | F5: TANG 4 DAU CO | G5: TONG THANG | H5: LUY KE (VND) | I5: GHI CHU
A6: 1 | B6: =TEXT(DATE(2026,1,1),"MM/YYYY") | C6: ='2.Kim Tu Thap 4 Tang'!D5 | D6: ='2.Kim Tu Thap 4 Tang'!D6 | E6: ='2.Kim Tu Thap 4 Tang'!D7 | F6: ='2.Kim Tu Thap 4 Tang'!D8 | G6: =SUM(C6:F6) | H6: =G6
A7: 2 | B7: =TEXT(DATE(2026,2,1),"MM/YYYY") | C7: ='2.Kim Tu Thap 4 Tang'!D5 | D7: ='2.Kim Tu Thap 4 Tang'!D6 | E7: ='2.Kim Tu Thap 4 Tang'!D7 | F7: ='2.Kim Tu Thap 4 Tang'!D8 | G7: =SUM(C7:F7) | H7: =H6+G7
A8: 3 | B8: =TEXT(DATE(2026,3,1),"MM/YYYY") | C8: ='2.Kim Tu Thap 4 Tang'!D5 | D8: ='2.Kim Tu Thap 4 Tang'!D6 | E8: ='2.Kim Tu Thap 4 Tang'!D7 | F8: ='2.Kim Tu Thap 4 Tang'!D8 | G8: =SUM(C8:F8) | H8: =H7+G8
A9: 4 | B9: =TEXT(DATE(2026,4,1),"MM/YYYY") | C9: ='2.Kim Tu Thap 4 Tang'!D5 | D9: ='2.Kim Tu Thap 4 Tang'!D6 | E9: ='2.Kim Tu Thap 4 Tang'!D7 | F9: ='2.Kim Tu Thap 4 Tang'!D8 | G9: =SUM(C9:F9) | H9: =H8+G9
A10: 5 | B10: =TEXT(DATE(2026,5,1),"MM/YYYY") | C10: ='2.Kim Tu Thap 4 Tang'!D5 | D10: ='2.Kim Tu Thap 4 Tang'!D6 | E10: ='2.Kim Tu Thap 4 Tang'!D7 | F10: ='2.Kim Tu Thap 4 Tang'!D8 | G10: =SUM(C10:F10) | H10: =H9+G10
A11: 6 | B11: =TEXT(DATE(2026,6,1),"MM/YYYY") | C11: ='2.Kim Tu Thap 4 Tang'!D5 | D11: ='2.Kim Tu Thap 4 Tang'!D6 | E11: ='2.Kim Tu Thap 4 Tang'!D7 | F11: ='2.Kim Tu Thap 4 Tang'!D8 | G11: =SUM(C11:F11) | H11: =H10+G11
A12: 7 | B12: =TEXT(DATE(2026,7,1),"MM/YYYY") | C12: ='2.Kim Tu Thap 4 Tang'!D5 | D12: ='2.Kim Tu Thap 4 Tang'!D6 | E12: ='2.Kim Tu Thap 4 Tang'!D7 | F12: ='2.Kim Tu Thap 4 Tang'!D8 | G12: =SUM(C12:F12) | H12: =H11+G12
A13: 8 | B13: =TEXT(DATE(2026,8,1),"MM/YYYY") | C13: ='2.Kim Tu Thap 4 Tang'!D5 | D13: ='2.Kim Tu Thap 4 Tang'!D6 | E13: ='2.Kim Tu Thap 4 Tang'!D7 | F13: ='2.Kim Tu Thap 4 Tang'!D8 | G13: =SUM(C13:F13) | H13: =H12+G13
A14: 9 | B14: =TEXT(DATE(2026,9,1),"MM/YYYY") | C14: ='2.Kim Tu Thap 4 Tang'!D5 | D14: ='2.Kim Tu Thap 4 Tang'!D6 | E14: ='2.Kim Tu Thap 4 Tang'!D7 | F14: ='2.Kim Tu Thap 4 Tang'!D8 | G14: =SUM(C14:F14) | H14: =H13+G14
A15: 10 | B15: =TEXT(DATE(2026,10,1),"MM/YYYY") | C15: ='2.Kim Tu Thap 4 Tang'!D5 | D15: ='2.Kim Tu Thap 4 Tang'!D6 | E15: ='2.Kim Tu Thap 4 Tang'!D7 | F15: ='2.Kim Tu Thap 4 Tang'!D8 | G15: =SUM(C15:F15) | H15: =H14+G15
A16: 11 | B16: =TEXT(DATE(2026,11,1),"MM/YYYY") | C16: ='2.Kim Tu Thap 4 Tang'!D5 | D16: ='2.Kim Tu Thap 4 Tang'!D6 | E16: ='2.Kim Tu Thap 4 Tang'!D7 | F16: ='2.Kim Tu Thap 4 Tang'!D8 | G16: =SUM(C16:F16) | H16: =H15+G16
A17: 12 | B17: =TEXT(DATE(2026,12,1),"MM/YYYY") | C17: ='2.Kim Tu Thap 4 Tang'!D5 | D17: ='2.Kim Tu Thap 4 Tang'!D6 | E17: ='2.Kim Tu Thap 4 Tang'!D7 | F17: ='2.Kim Tu Thap 4 Tang'!D8 | G17: =SUM(C17:F17) | H17: =H16+G17
A18: 13 | B18: =TEXT(DATE(2026,13,1),"MM/YYYY") | C18: ='2.Kim Tu Thap 4 Tang'!D5 | D18: ='2.Kim Tu Thap 4 Tang'!D6 | E18: ='2.Kim Tu Thap 4 Tang'!D7 | F18: ='2.Kim Tu Thap 4 Tang'!D8 | G18: =SUM(C18:F18) | H18: =H17+G18
A19: 14 | B19: =TEXT(DATE(2026,14,1),"MM/YYYY") | C19: ='2.Kim Tu Thap 4 Tang'!D5 | D19: ='2.Kim Tu Thap 4 Tang'!D6 | E19: ='2.Kim Tu Thap 4 Tang'!D7 | F19: ='2.Kim Tu Thap 4 Tang'!D8 | G19: =SUM(C19:F19) | H19: =H18+G19
A20: 15 | B20: =TEXT(DATE(2026,15,1),"MM/YYYY") | C20: ='2.Kim Tu Thap 4 Tang'!D5 | D20: ='2.Kim Tu Thap 4 Tang'!D6 | E20: ='2.Kim Tu Thap 4 Tang'!D7 | F20: ='2.Kim Tu Thap 4 Tang'!D8 | G20: =SUM(C20:F20) | H20: =H19+G20
A21: 16 | B21: =TEXT(DATE(2026,16,1),"MM/YYYY") | C21: ='2.Kim Tu Thap 4 Tang'!D5 | D21: ='2.Kim Tu Thap 4 Tang'!D6 | E21: ='2.Kim Tu Thap 4 Tang'!D7 | F21: ='2.Kim Tu Thap 4 Tang'!D8 | G21: =SUM(C21:F21) | H21: =H20+G21
A22: 17 | B22: =TEXT(DATE(2026,17,1),"MM/YYYY") | C22: ='2.Kim Tu Thap 4 Tang'!D5 | D22: ='2.Kim Tu Thap 4 Tang'!D6 | E22: ='2.Kim Tu Thap 4 Tang'!D7 | F22: ='2.Kim Tu Thap 4 Tang'!D8 | G22: =SUM(C22:F22) | H22: =H21+G22
A23: 18 | B23: =TEXT(DATE(2026,18,1),"MM/YYYY") | C23: ='2.Kim Tu Thap 4 Tang'!D5 | D23: ='2.Kim Tu Thap 4 Tang'!D6 | E23: ='2.Kim Tu Thap 4 Tang'!D7 | F23: ='2.Kim Tu Thap 4 Tang'!D8 | G23: =SUM(C23:F23) | H23: =H22+G23
A24: 19 | B24: =TEXT(DATE(2026,19,1),"MM/YYYY") | C24: ='2.Kim Tu Thap 4 Tang'!D5 | D24: ='2.Kim Tu Thap 4 Tang'!D6 | E24: ='2.Kim Tu Thap 4 Tang'!D7 | F24: ='2.Kim Tu Thap 4 Tang'!D8 | G24: =SUM(C24:F24) | H24: =H23+G24
A25: 20 | B25: =TEXT(DATE(2026,20,1),"MM/YYYY") | C25: ='2.Kim Tu Thap 4 Tang'!D5 | D25: ='2.Kim Tu Thap 4 Tang'!D6 | E25: ='2.Kim Tu Thap 4 Tang'!D7 | F25: ='2.Kim Tu Thap 4 Tang'!D8 | G25: =SUM(C25:F25) | H25: =H24+G25
A26: 21 | B26: =TEXT(DATE(2026,21,1),"MM/YYYY") | C26: ='2.Kim Tu Thap 4 Tang'!D5 | D26: ='2.Kim Tu Thap 4 Tang'!D6 | E26: ='2.Kim Tu Thap 4 Tang'!D7 | F26: ='2.Kim Tu Thap 4 Tang'!D8 | G26: =SUM(C26:F26) | H26: =H25+G26
A27: 22 | B27: =TEXT(DATE(2026,22,1),"MM/YYYY") | C27: ='2.Kim Tu Thap 4 Tang'!D5 | D27: ='2.Kim Tu Thap 4 Tang'!D6 | E27: ='2.Kim Tu Thap 4 Tang'!D7 | F27: ='2.Kim Tu Thap 4 Tang'!D8 | G27: =SUM(C27:F27) | H27: =H26+G27
A28: 23 | B28: =TEXT(DATE(2026,23,1),"MM/YYYY") | C28: ='2.Kim Tu Thap 4 Tang'!D5 | D28: ='2.Kim Tu Thap 4 Tang'!D6 | E28: ='2.Kim Tu Thap 4 Tang'!D7 | F28: ='2.Kim Tu Thap 4 Tang'!D8 | G28: =SUM(C28:F28) | H28: =H27+G28
A29: 24 | B29: =TEXT(DATE(2026,24,1),"MM/YYYY") | C29: ='2.Kim Tu Thap 4 Tang'!D5 | D29: ='2.Kim Tu Thap 4 Tang'!D6 | E29: ='2.Kim Tu Thap 4 Tang'!D7 | F29: ='2.Kim Tu Thap 4 Tang'!D8 | G29: =SUM(C29:F29) | H29: =H28+G29
A30: 25 | B30: =TEXT(DATE(2026,25,1),"MM/YYYY") | C30: ='2.Kim Tu Thap 4 Tang'!D5 | D30: ='2.Kim Tu Thap 4 Tang'!D6 | E30: ='2.Kim Tu Thap 4 Tang'!D7 | F30: ='2.Kim Tu Thap 4 Tang'!D8 | G30: =SUM(C30:F30) | H30: =H29+G30
A31: 26 | B31: =TEXT(DATE(2026,26,1),"MM/YYYY") | C31: ='2.Kim Tu Thap 4 Tang'!D5 | D31: ='2.Kim Tu Thap 4 Tang'!D6 | E31: ='2.Kim Tu Thap 4 Tang'!D7 | F31: ='2.Kim Tu Thap 4 Tang'!D8 | G31: =SUM(C31:F31) | H31: =H30+G31
A32: 27 | B32: =TEXT(DATE(2026,27,1),"MM/YYYY") | C32: ='2.Kim Tu Thap 4 Tang'!D5 | D32: ='2.Kim Tu Thap 4 Tang'!D6 | E32: ='2.Kim Tu Thap 4 Tang'!D7 | F32: ='2.Kim Tu Thap 4 Tang'!D8 | G32: =SUM(C32:F32) | H32: =H31+G32
A33: 28 | B33: =TEXT(DATE(2026,28,1),"MM/YYYY") | C33: ='2.Kim Tu Thap 4 Tang'!D5 | D33: ='2.Kim Tu Thap 4 Tang'!D6 | E33: ='2.Kim Tu Thap 4 Tang'!D7 | F33: ='2.Kim Tu Thap 4 Tang'!D8 | G33: =SUM(C33:F33) | H33: =H32+G33
A34: 29 | B34: =TEXT(DATE(2026,29,1),"MM/YYYY") | C34: ='2.Kim Tu Thap 4 Tang'!D5 | D34: ='2.Kim Tu Thap 4 Tang'!D6 | E34: ='2.Kim Tu Thap 4 Tang'!D7 | F34: ='2.Kim Tu Thap 4 Tang'!D8 | G34: =SUM(C34:F34) | H34: =H33+G34
A35: 30 | B35: =TEXT(DATE(2026,30,1),"MM/YYYY") | C35: ='2.Kim Tu Thap 4 Tang'!D5 | D35: ='2.Kim Tu Thap 4 Tang'!D6 | E35: ='2.Kim Tu Thap 4 Tang'!D7 | F35: ='2.Kim Tu Thap 4 Tang'!D8 | G35: =SUM(C35:F35) | H35: =H34+G35
A36: 31 | B36: =TEXT(DATE(2026,31,1),"MM/YYYY") | C36: ='2.Kim Tu Thap 4 Tang'!D5 | D36: ='2.Kim Tu Thap 4 Tang'!D6 | E36: ='2.Kim Tu Thap 4 Tang'!D7 | F36: ='2.Kim Tu Thap 4 Tang'!D8 | G36: =SUM(C36:F36) | H36: =H35+G36
A37: 32 | B37: =TEXT(DATE(2026,32,1),"MM/YYYY") | C37: ='2.Kim Tu Thap 4 Tang'!D5 | D37: ='2.Kim Tu Thap 4 Tang'!D6 | E37: ='2.Kim Tu Thap 4 Tang'!D7 | F37: ='2.Kim Tu Thap 4 Tang'!D8 | G37: =SUM(C37:F37) | H37: =H36+G37
A38: 33 | B38: =TEXT(DATE(2026,33,1),"MM/YYYY") | C38: ='2.Kim Tu Thap 4 Tang'!D5 | D38: ='2.Kim Tu Thap 4 Tang'!D6 | E38: ='2.Kim Tu Thap 4 Tang'!D7 | F38: ='2.Kim Tu Thap 4 Tang'!D8 | G38: =SUM(C38:F38) | H38: =H37+G38
A39: 34 | B39: =TEXT(DATE(2026,34,1),"MM/YYYY") | C39: ='2.Kim Tu Thap 4 Tang'!D5 | D39: ='2.Kim Tu Thap 4 Tang'!D6 | E39: ='2.Kim Tu Thap 4 Tang'!D7 | F39: ='2.Kim Tu Thap 4 Tang'!D8 | G39: =SUM(C39:F39) | H39: =H38+G39
A40: 35 | B40: =TEXT(DATE(2026,35,1),"MM/YYYY") | C40: ='2.Kim Tu Thap 4 Tang'!D5 | D40: ='2.Kim Tu Thap 4 Tang'!D6 | E40: ='2.Kim Tu Thap 4 Tang'!D7 | F40: ='2.Kim Tu Thap 4 Tang'!D8 | G40: =SUM(C40:F40) | H40: =H39+G40
A41: 36 | B41: =TEXT(DATE(2026,36,1),"MM/YYYY") | C41: ='2.Kim Tu Thap 4 Tang'!D5 | D41: ='2.Kim Tu Thap 4 Tang'!D6 | E41: ='2.Kim Tu Thap 4 Tang'!D7 | F41: ='2.Kim Tu Thap 4 Tang'!D8 | G41: =SUM(C41:F41) | H41: =H40+G41
A42: 37 | B42: =TEXT(DATE(2026,37,1),"MM/YYYY") | C42: ='2.Kim Tu Thap 4 Tang'!D5 | D42: ='2.Kim Tu Thap 4 Tang'!D6 | E42: ='2.Kim Tu Thap 4 Tang'!D7 | F42: ='2.Kim Tu Thap 4 Tang'!D8 | G42: =SUM(C42:F42) | H42: =H41+G42
A43: 38 | B43: =TEXT(DATE(2026,38,1),"MM/YYYY") | C43: ='2.Kim Tu Thap 4 Tang'!D5 | D43: ='2.Kim Tu Thap 4 Tang'!D6 | E43: ='2.Kim Tu Thap 4 Tang'!D7 | F43: ='2.Kim Tu Thap 4 Tang'!D8 | G43: =SUM(C43:F43) | H43: =H42+G43
A44: 39 | B44: =TEXT(DATE(2026,39,1),"MM/YYYY") | C44: ='2.Kim Tu Thap 4 Tang'!D5 | D44: ='2.Kim Tu Thap 4 Tang'!D6 | E44: ='2.Kim Tu Thap 4 Tang'!D7 | F44: ='2.Kim Tu Thap 4 Tang'!D8 | G44: =SUM(C44:F44) | H44: =H43+G44
A45: 40 | B45: =TEXT(DATE(2026,40,1),"MM/YYYY") | C45: ='2.Kim Tu Thap 4 Tang'!D5 | D45: ='2.Kim Tu Thap 4 Tang'!D6 | E45: ='2.Kim Tu Thap 4 Tang'!D7 | F45: ='2.Kim Tu Thap 4 Tang'!D8 | G45: =SUM(C45:F45) | H45: =H44+G45
A46: 41 | B46: =TEXT(DATE(2026,41,1),"MM/YYYY") | C46: ='2.Kim Tu Thap 4 Tang'!D5 | D46: ='2.Kim Tu Thap 4 Tang'!D6 | E46: ='2.Kim Tu Thap 4 Tang'!D7 | F46: ='2.Kim Tu Thap 4 Tang'!D8 | G46: =SUM(C46:F46) | H46: =H45+G46
A47: 42 | B47: =TEXT(DATE(2026,42,1),"MM/YYYY") | C47: ='2.Kim Tu Thap 4 Tang'!D5 | D47: ='2.Kim Tu Thap 4 Tang'!D6 | E47: ='2.Kim Tu Thap 4 Tang'!D7 | F47: ='2.Kim Tu Thap 4 Tang'!D8 | G47: =SUM(C47:F47) | H47: =H46+G47
A48: 43 | B48: =TEXT(DATE(2026,43,1),"MM/YYYY") | C48: ='2.Kim Tu Thap 4 Tang'!D5 | D48: ='2.Kim Tu Thap 4 Tang'!D6 | E48: ='2.Kim Tu Thap 4 Tang'!D7 | F48: ='2.Kim Tu Thap 4 Tang'!D8 | G48: =SUM(C48:F48) | H48: =H47+G48
A49: 44 | B49: =TEXT(DATE(2026,44,1),"MM/YYYY") | C49: ='2.Kim Tu Thap 4 Tang'!D5 | D49: ='2.Kim Tu Thap 4 Tang'!D6 | E49: ='2.Kim Tu Thap 4 Tang'!D7 | F49: ='2.Kim Tu Thap 4 Tang'!D8 | G49: =SUM(C49:F49) | H49: =H48+G49
A50: 45 | B50: =TEXT(DATE(2026,45,1),"MM/YYYY") | C50: ='2.Kim Tu Thap 4 Tang'!D5 | D50: ='2.Kim Tu Thap 4 Tang'!D6 | E50: ='2.Kim Tu Thap 4 Tang'!D7 | F50: ='2.Kim Tu Thap 4 Tang'!D8 | G50: =SUM(C50:F50) | H50: =H49+G50
A51: 46 | B51: =TEXT(DATE(2026,46,1),"MM/YYYY") | C51: ='2.Kim Tu Thap 4 Tang'!D5 | D51: ='2.Kim Tu Thap 4 Tang'!D6 | E51: ='2.Kim Tu Thap 4 Tang'!D7 | F51: ='2.Kim Tu Thap 4 Tang'!D8 | G51: =SUM(C51:F51) | H51: =H50+G51
A52: 47 | B52: =TEXT(DATE(2026,47,1),"MM/YYYY") | C52: ='2.Kim Tu Thap 4 Tang'!D5 | D52: ='2.Kim Tu Thap 4 Tang'!D6 | E52: ='2.Kim Tu Thap 4 Tang'!D7 | F52: ='2.Kim Tu Thap 4 Tang'!D8 | G52: =SUM(C52:F52) | H52: =H51+G52
A53: 48 | B53: =TEXT(DATE(2026,48,1),"MM/YYYY") | C53: ='2.Kim Tu Thap 4 Tang'!D5 | D53: ='2.Kim Tu Thap 4 Tang'!D6 | E53: ='2.Kim Tu Thap 4 Tang'!D7 | F53: ='2.Kim Tu Thap 4 Tang'!D8 | G53: =SUM(C53:F53) | H53: =H52+G53
A54: 49 | B54: =TEXT(DATE(2026,49,1),"MM/YYYY") | C54: ='2.Kim Tu Thap 4 Tang'!D5 | D54: ='2.Kim Tu Thap 4 Tang'!D6 | E54: ='2.Kim Tu Thap 4 Tang'!D7 | F54: ='2.Kim Tu Thap 4 Tang'!D8 | G54: =SUM(C54:F54) | H54: =H53+G54
A55: 50 | B55: =TEXT(DATE(2026,50,1),"MM/YYYY") | C55: ='2.Kim Tu Thap 4 Tang'!D5 | D55: ='2.Kim Tu Thap 4 Tang'!D6 | E55: ='2.Kim Tu Thap 4 Tang'!D7 | F55: ='2.Kim Tu Thap 4 Tang'!D8 | G55: =SUM(C55:F55) | H55: =H54+G55
A56: 51 | B56: =TEXT(DATE(2026,51,1),"MM/YYYY") | C56: ='2.Kim Tu Thap 4 Tang'!D5 | D56: ='2.Kim Tu Thap 4 Tang'!D6 | E56: ='2.Kim Tu Thap 4 Tang'!D7 | F56: ='2.Kim Tu Thap 4 Tang'!D8 | G56: =SUM(C56:F56) | H56: =H55+G56
A57: 52 | B57: =TEXT(DATE(2026,52,1),"MM/YYYY") | C57: ='2.Kim Tu Thap 4 Tang'!D5 | D57: ='2.Kim Tu Thap 4 Tang'!D6 | E57: ='2.Kim Tu Thap 4 Tang'!D7 | F57: ='2.Kim Tu Thap 4 Tang'!D8 | G57: =SUM(C57:F57) | H57: =H56+G57
A58: 53 | B58: =TEXT(DATE(2026,53,1),"MM/YYYY") | C58: ='2.Kim Tu Thap 4 Tang'!D5 | D58: ='2.Kim Tu Thap 4 Tang'!D6 | E58: ='2.Kim Tu Thap 4 Tang'!D7 | F58: ='2.Kim Tu Thap 4 Tang'!D8 | G58: =SUM(C58:F58) | H58: =H57+G58
A59: 54 | B59: =TEXT(DATE(2026,54,1),"MM/YYYY") | C59: ='2.Kim Tu Thap 4 Tang'!D5 | D59: ='2.Kim Tu Thap 4 Tang'!D6 | E59: ='2.Kim Tu Thap 4 Tang'!D7 | F59: ='2.Kim Tu Thap 4 Tang'!D8 | G59: =SUM(C59:F59) | H59: =H58+G59
A60: 55 | B60: =TEXT(DATE(2026,55,1),"MM/YYYY") | C60: ='2.Kim Tu Thap 4 Tang'!D5 | D60: ='2.Kim Tu Thap 4 Tang'!D6 | E60: ='2.Kim Tu Thap 4 Tang'!D7 | F60: ='2.Kim Tu Thap 4 Tang'!D8 | G60: =SUM(C60:F60) | H60: =H59+G60
A61: 56 | B61: =TEXT(DATE(2026,56,1),"MM/YYYY") | C61: ='2.Kim Tu Thap 4 Tang'!D5 | D61: ='2.Kim Tu Thap 4 Tang'!D6 | E61: ='2.Kim Tu Thap 4 Tang'!D7 | F61: ='2.Kim Tu Thap 4 Tang'!D8 | G61: =SUM(C61:F61) | H61: =H60+G61
A62: 57 | B62: =TEXT(DATE(2026,57,1),"MM/YYYY") | C62: ='2.Kim Tu Thap 4 Tang'!D5 | D62: ='2.Kim Tu Thap 4 Tang'!D6 | E62: ='2.Kim Tu Thap 4 Tang'!D7 | F62: ='2.Kim Tu Thap 4 Tang'!D8 | G62: =SUM(C62:F62) | H62: =H61+G62
A63: 58 | B63: =TEXT(DATE(2026,58,1),"MM/YYYY") | C63: ='2.Kim Tu Thap 4 Tang'!D5 | D63: ='2.Kim Tu Thap 4 Tang'!D6 | E63: ='2.Kim Tu Thap 4 Tang'!D7 | F63: ='2.Kim Tu Thap 4 Tang'!D8 | G63: =SUM(C63:F63) | H63: =H62+G63
A64: 59 | B64: =TEXT(DATE(2026,59,1),"MM/YYYY") | C64: ='2.Kim Tu Thap 4 Tang'!D5 | D64: ='2.Kim Tu Thap 4 Tang'!D6 | E64: ='2.Kim Tu Thap 4 Tang'!D7 | F64: ='2.Kim Tu Thap 4 Tang'!D8 | G64: =SUM(C64:F64) | H64: =H63+G64
A65: 60 | B65: =TEXT(DATE(2026,60,1),"MM/YYYY") | C65: ='2.Kim Tu Thap 4 Tang'!D5 | D65: ='2.Kim Tu Thap 4 Tang'!D6 | E65: ='2.Kim Tu Thap 4 Tang'!D7 | F65: ='2.Kim Tu Thap 4 Tang'!D8 | G65: =SUM(C65:F65) | H65: =H64+G65
A66: TONG 60 THANG | C66: =SUM(C6:C65) | D66: =SUM(D6:D65) | E66: =SUM(E6:E65) | F66: =SUM(F6:F65) | G66: =SUM(G6:G65) | H66: =SUM(H6:H65)

Sheet 4.FIRE Calculator
A1: FIRE CALCULATOR — QUY TAC 4%
A2: Sheet 4 - FIRE Planning | Nguyen Ngoc Ung · FIDT
A3: Chi tieu hang thang khi nghi huu | B3: ='1.Ho So Ca Nhan'!B18 | C3: VND/thang
A4: FIRE Number (chi tieu x 300) | B4: ='1.Ho So Ca Nhan'!B19 | C4: VND
A5: Tai san hien tai | B5: ='1.Ho So Ca Nhan'!B13 | C5: VND
A6: Thang du dau tu hang thang | B6: ='2.Kim Tu Thap 4 Tang'!D7 | C6: VND/thang
A7: Tuoi hien tai | B7: ='1.Ho So Ca Nhan'!B15 | C7: tuoi
A9: KICH BAN: SO NAM VA NAM DAT FIRE
A10: CHI SO | B10: KICH BAN 1: THAN TRONG (6%/nam) | C10: KICH BAN 2: CO SO (8%/nam) | D10: KICH BAN 3: TANG TRUONG (10%/nam)
A11: Lai suat dau tu/nam | B11: 0.06 | C11: 0.08 | D11: 0.1
A12: So thang can de dat FIRE | B12: =IFERROR(NPER(B11/12,$B$7,-$B$5,-$B$4),"Khong du") | C12: =IFERROR(NPER(C11/12,$B$7,-$B$5,-$B$4),"Khong du") | D12: =IFERROR(NPER(D11/12,$B$7,-$B$5,-$B$4),"Khong du")
A13: So NAM can de dat FIRE | B13: =IFERROR(B12/12,"N/A") | C13: =IFERROR(C12/12,"N/A") | D13: =IFERROR(D12/12,"N/A")
A14: Tuoi dat FIRE | B14: =IFERROR($B$5+B13,"N/A") | C14: =IFERROR($B$5+C13,"N/A") | D14: =IFERROR($B$5+D13,"N/A")
A15: Nam dat FIRE (uoc tinh) | B15: =IFERROR(2026+B13,"N/A") | C15: =IFERROR(2026+C13,"N/A") | D15: =IFERROR(2026+D13,"N/A")
A17: QUY TAC 4%: FIRE Number = Chi tieu hang thang khi nghi huu x 300 · Rut 4%/nam khi dat FIRE · Tai san ton tai 30+ nam

Sheet 5.Dashboard
A1: DASHBOARD TONG QUAN — TICH SAN 5 NAM
A2: Sheet 5 - Dashboard | Nguyen Ngoc Ung · FIDT | Review hang quy voi FP
A4: THANG DU/THANG | B4: FIRE NUMBER | C4: TONG 60 THANG | D4: TUOI FIRE (8%)
A5: ='1.Ho So Ca Nhan'!B6 | B5: ='1.Ho So Ca Nhan'!B19 | C5: ='3.Lich 60 Thang'!H65 | D5: ='4.FIRE Calculator'!C14
A6: VND | B6: VND | C6: VND | D6: tuoi
A8: PHAN BO KIM TU THAP — THANG NAY
A9: Tang 1 - Bao Ve | B9: ='2.Kim Tu Thap 4 Tang'!D5 | C9: ='2.Kim Tu Thap 4 Tang'!C5
A10: Tang 2 - Bao Toan | B10: ='2.Kim Tu Thap 4 Tang'!D6 | C10: ='2.Kim Tu Thap 4 Tang'!C6
A11: Tang 3 - Tang Truong | B11: ='2.Kim Tu Thap 4 Tang'!D7 | C11: ='2.Kim Tu Thap 4 Tang'!C7
A12: Tang 4 - Dau Co | B12: ='2.Kim Tu Thap 4 Tang'!D8 | C12: ='2.Kim Tu Thap 4 Tang'!C8
A14: FIRE SCENARIOS — 3 KICH BAN
A15: KICH BAN | B15: LAI SUAT | C15: SO NAM | D15: TUOI FIRE | E15: NAM DAT FIRE
A16: Than Trong | B16: ='4.FIRE Calculator'!B11 | C16: ='4.FIRE Calculator'!B13 | D16: ='4.FIRE Calculator'!B14 | E16: ='4.FIRE Calculator'!B15
A17: Co So | B17: ='4.FIRE Calculator'!C11 | C17: ='4.FIRE Calculator'!C13 | D17: ='4.FIRE Calculator'!C14 | E17: ='4.FIRE Calculator'!C15
A18: Tang Truong | B18: ='4.FIRE Calculator'!D11 | C18: ='4.FIRE Calculator'!D13 | D18: ='4.FIRE Calculator'!D14 | E18: ='4.FIRE Calculator'!D15
A20: TICH SAN LUY KE — MILESTONE
A21: Sau 12 thang (Nam 1) | C21: ='3.Lich 60 Thang'!H17
A22: Sau 24 thang (Nam 2) | C22: ='3.Lich 60 Thang'!H29
A23: Sau 36 thang (Nam 3) | C23: ='3.Lich 60 Thang'!H41
A24: Sau 48 thang (Nam 4) | C24: ='3.Lich 60 Thang'!H53
A25: Sau 60 thang (Nam 5) | C25: ='3.Lich 60 Thang'!H65
A27: Nguyen Ngoc Ung · FP Candidate · FIDT | ke-hoach-tich-san-5-nam.xlsx | Review hang quy va cap nhat vao Sheet 1
